BEGIN:VCALENDAR
VERSION:2.0
PRODID:-//Landkreis Sankt Wendel Aktuell - ECPv6.11.2//NONSGML v1.0//EN
CALSCALE:GREGORIAN
METHOD:PUBLISH
X-WR-CALNAME:Landkreis Sankt Wendel Aktuell
X-ORIGINAL-URL:https://www.lkwnd-aktuell.de
X-WR-CALDESC:Veranstaltungen für Landkreis Sankt Wendel Aktuell
REFRESH-INTERVAL;VALUE=DURATION:PT1H
X-Robots-Tag:noindex
X-PUBLISHED-TTL:PT1H
BEGIN:VTIMEZONE
TZID:Europe/Berlin
BEGIN:DAYLIGHT
TZOFFSETFROM:+0100
TZOFFSETTO:+0200
TZNAME:CEST
DTSTART:20260329T010000
END:DAYLIGHT
BEGIN:STANDARD
TZOFFSETFROM:+0200
TZOFFSETTO:+0100
TZNAME:CET
DTSTART:20261025T010000
END:STANDARD
END:VTIMEZONE
BEGIN:VEVENT
DTSTART;VALUE=DATE:20260407
DTEND;VALUE=DATE:20260701
DTSTAMP:20260423T200016
CREATED:20260319T105611Z
LAST-MODIFIED:20260319T105611Z
UID:21369-1775520000-1782863999@www.lkwnd-aktuell.de
SUMMARY:Ausstellung „Gegensätze“ im Rathaus Nohfelden
DESCRIPTION:Vom 07. April bis 30. Juni 2026 präsentiert der Fotoclub Nohfelden e. V. im Rathaus Nohfelden seine neue Ausstellung „Gegensätze“. Das Fotoprojekt widmet sich dem spannenden Spiel visueller Kontraste und zeigt\, wie unterschiedlich die Welt wirken kann\, wenn Perspektive\, Licht oder Kontext wechseln.\nNeben Landschafts- und Stadtaufnahmen zu verschiedenen Tages- und Jahreszeiten widmen sich einige Arbeiten auch alltäglichen Motiven\, die durch bewusste Kontraste eine neue\, oft ungeahnte Wirkung erhalten. So entsteht ein facettenreicher Blick auf Motive\, die wir zwar kennen – und doch immer wieder überraschen.\nDie feierliche Vernissage findet am 10. April 2026 um 18 Uhr statt.\nHierzu sind alle Kunstinteressierte\, Fotobegeisterte und Neugierige herzlich eingeladen. Dort bietet sich die Gelegenheit\, mit den beteiligten Fotografinnen und Fotografen ins Gespräch zu kommen und mehr über ihre Arbeitsweisen und Ideen zu erfahren.\nDer Fotoclub Nohfelden e. V. freut sich auf zahlreiche Besucherinnen und Besucher.\nDie Ausstellung ist während der regulären Öffnungszeiten des Rathauses zugänglich\, der Eintritt ist frei.
URL:https://www.lkwnd-aktuell.de/event/ausstellung-gegensaetze-im-rathaus-nohfelden/
LOCATION:Rathaus Nohfelden\, An der Burg 1\, Nohfelden\, Saarland\, 66625\, Germany
ATTACH;FMTTYPE=image/jpeg:https://www.lkwnd-aktuell.de/wp-content/uploads/2026/03/260410_Plakat_Ausstellung-Gegensaetze-Rathaus-Nohfelden_gross-scaled.jpg
END:VEVENT
BEGIN:VEVENT
DTSTART;TZID=Europe/Berlin:20260423T173000
DTEND;TZID=Europe/Berlin:20260423T190000
DTSTAMP:20260423T200016
CREATED:20260420T110648Z
LAST-MODIFIED:20260420T110905Z
UID:21831-1776965400-1776970800@www.lkwnd-aktuell.de
SUMMARY:🎨📄 Flyer\, Logo & mehr – einfach selbst gestalten
DESCRIPTION:Ihr möchtet Flyer\, Plakate oder ein Logo für euren Verein erstellen\, wisst aber nicht genau wie? Dann kommt zu unserem Workshop rund um Canva. 🙌 \nEin Vereinsvertreter zeigt euch praxisnah\, wie ihr die wichtigsten Funktionen nutzt und eigene Materialien für euren Verein gestaltet – einfach erklärt und direkt anwendbar. \n📅 23. April | 17:30–19:00 Uhr\n📍 Clubheim Fotoclub Tele Freisen\nHeidestraße 29 · 66629 Freisen \n👉 Kostenlos\n👉 Anmeldung: vereinsplatz-wnd.de/seminare oder per Mail an ehrenamt@lkwnd.de \nKommt vorbei und probiert’s aus – wir freuen uns auf euch! 😊
URL:https://www.lkwnd-aktuell.de/event/%f0%9f%8e%a8%f0%9f%93%84-flyer-logo-mehr-einfach-selbst-gestalten/
LOCATION:Clubheim Fotoclub Tele Freisen\, Heidestraße 29\, Freisen\, Saarland\, 66629
ATTACH;FMTTYPE=image/png:https://www.lkwnd-aktuell.de/wp-content/uploads/2026/04/Schutzkonzept-1.png
END:VEVENT
END:VCALENDAR