BEGIN:VCALENDAR
VERSION:2.0
PRODID:-//Landkreis Sankt Wendel Aktuell - ECPv6.11.2//NONSGML v1.0//EN
CALSCALE:GREGORIAN
METHOD:PUBLISH
X-WR-CALNAME:Landkreis Sankt Wendel Aktuell
X-ORIGINAL-URL:https://www.lkwnd-aktuell.de
X-WR-CALDESC:Veranstaltungen für Landkreis Sankt Wendel Aktuell
REFRESH-INTERVAL;VALUE=DURATION:PT1H
X-Robots-Tag:noindex
X-PUBLISHED-TTL:PT1H
BEGIN:VTIMEZONE
TZID:Europe/Berlin
BEGIN:DAYLIGHT
TZOFFSETFROM:+0100
TZOFFSETTO:+0200
TZNAME:CEST
DTSTART:20260329T010000
END:DAYLIGHT
BEGIN:STANDARD
TZOFFSETFROM:+0200
TZOFFSETTO:+0100
TZNAME:CET
DTSTART:20261025T010000
END:STANDARD
END:VTIMEZONE
BEGIN:VEVENT
DTSTART;TZID=Europe/Berlin:20260502T103000
DTEND;TZID=Europe/Berlin:20260502T200000
DTSTAMP:20260420T095439
CREATED:20260419T054401Z
LAST-MODIFIED:20260419T054401Z
UID:21804-1777717800-1777752000@www.lkwnd-aktuell.de
SUMMARY:Tanz in DEN MAI!
DESCRIPTION:
URL:https://www.lkwnd-aktuell.de/event/tanz-in-den-mai/
LOCATION:Schulhof Otzenhausen\, Ringwallstraße 6\, Nonnweiler\, Deutschland\, 66620\, Germany
ATTACH;FMTTYPE=image/jpeg:https://www.lkwnd-aktuell.de/wp-content/uploads/2026/04/Tanz_in_den_mai_03052026.jpeg
END:VEVENT
END:VCALENDAR